BEGIN:VCALENDAR
VERSION:2.0
PRODID:-//Sherwood Swim Club - ECPv6.2.6//NONSGML v1.0//EN
CALSCALE:GREGORIAN
METHOD:PUBLISH
X-WR-CALNAME:Sherwood Swim Club
X-ORIGINAL-URL:https://www.sherwoodswimclub.com
X-WR-CALDESC:Events for Sherwood Swim Club
REFRESH-INTERVAL;VALUE=DURATION:PT1H
X-Robots-Tag:noindex
X-PUBLISHED-TTL:PT1H
BEGIN:VTIMEZONE
TZID:America/Chicago
BEGIN:DAYLIGHT
TZOFFSETFROM:-0600
TZOFFSETTO:-0500
TZNAME:CDT
DTSTART:20220313T080000
END:DAYLIGHT
BEGIN:STANDARD
TZOFFSETFROM:-0500
TZOFFSETTO:-0600
TZNAME:CST
DTSTART:20221106T070000
END:STANDARD
END:VTIMEZONE
BEGIN:VEVENT
DTSTART;TZID=America/Chicago:20220613T170000
DTEND;TZID=America/Chicago:20220613T200000
DTSTAMP:20260422T011917
CREATED:20220607T005006Z
LAST-MODIFIED:20220611T151320Z
UID:2514-1655139600-1655150400@www.sherwoodswimclub.com
SUMMARY:Sherwood vs. Camelot Dive Meet
DESCRIPTION:This is our first of three dual dive meets for the 2022 season. We will host Camelot at home on June 13th\, with warm-ups beginning at 5:00 PM. Come hungry because we’re grilling burgers and dogs! \nRegistration for this meet will close at 5:00 PM on Sunday 6/12/2022 \nClick to Register Here! \nOur swim and dive meets are not possible without help from parent volunteers.  Please sign up to make this dive meet a success. \nClick here to volunteer at the meet
URL:https://www.sherwoodswimclub.com/event/sherwood-vs-camelot-dive-meet/
LOCATION:Sherwood Pool\, 518 Forrest Park Ct NW\, Huntsville\, AL\, 35806\, United States
CATEGORIES:Dive Team
ATTACH;FMTTYPE=image/jpeg:https://www.sherwoodswimclub.com/wp-content/uploads/2022/04/diving.jpg
END:VEVENT
BEGIN:VEVENT
DTSTART;TZID=America/Chicago:20220612T140000
DTEND;TZID=America/Chicago:20220612T153000
DTSTAMP:20260422T011917
CREATED:20220611T150336Z
LAST-MODIFIED:20220611T150344Z
UID:2538-1655042400-1655047800@www.sherwoodswimclub.com
SUMMARY:Slip-N-Slide and Dad Dives
DESCRIPTION:Come join us for a fun afternoon filled with slip-n-slide and dad dives!  It’s sure to be a good time for participants and spectators alike.
URL:https://www.sherwoodswimclub.com/event/slip-n-slide-and-dad-dives/
LOCATION:Sherwood Pool\, 518 Forrest Park Ct NW\, Huntsville\, AL\, 35806\, United States
CATEGORIES:Social
ATTACH;FMTTYPE=image/png:https://www.sherwoodswimclub.com/wp-content/uploads/2022/06/DadCannonball.png
END:VEVENT
BEGIN:VEVENT
DTSTART;TZID=America/Chicago:20220609T163000
DTEND;TZID=America/Chicago:20220609T180000
DTSTAMP:20260422T011917
CREATED:20220602T030506Z
LAST-MODIFIED:20220609T042451Z
UID:2495-1654792200-1654797600@www.sherwoodswimclub.com
SUMMARY:Stroke Clinic - Short Axis Strokes
DESCRIPTION:What are short axis strokes?  Breaststroke and Butterfly!  Swimmers\, get ready to move those hips while we learn the rhythms of breaststroke and butterfly.  These are typically the two hardest strokes to master\, but in one coach’s opinion\, the most rewarding to compete in. \nFun fact: the breaststroke is one of the oldest know swimming strokes\, but the butterfly is relatively new and has only been a recognized stroke since 1952.  In fact\, the butterfly was invented as a way to swim breaststroke faster! \nSession 1 is for Lemon\, Leopard\, and Hammerhead sharks\, and Session 2 is for Tiger\, Great White\, and Mako sharks. \nClick here for Session 1  signup!\nClick here for Session 2 signup!
URL:https://www.sherwoodswimclub.com/event/stroke-clinic-short-axis-strokes/
LOCATION:Sherwood Pool\, 518 Forrest Park Ct NW\, Huntsville\, AL\, 35806\, United States
END:VEVENT
BEGIN:VEVENT
DTSTART;TZID=America/Chicago:20220608T180000
DTEND;TZID=America/Chicago:20220608T213000
DTSTAMP:20260422T011917
CREATED:20220522T210106Z
LAST-MODIFIED:20220526T184350Z
UID:2337-1654711200-1654723800@www.sherwoodswimclub.com
SUMMARY:SHER at RSAL
DESCRIPTION:The Redstone Arsenal Launchers will host the Sherwood Sharks for our first sanctioned dual meet of the swim season! \nThis meet location is on the Redstone Arsenal military installation\, so there are special instructions for gate access.  If you register for the swim meet before 6:00 PM on Saturday\, 4 June\, then Sherwood Swim Club will submit badge requests on your behalf.  If you register after 4 June\, you will need to submit your own badge request. \nCLICK TO REGISTER FOR SWIM MEET\nGATE ACCESS\nAll visitors (including swimmers) age 16 and up who do not otherwise have access to Redstone Arsenal will need to obtain a visitor’s badge prior to the meet.  Each visitor must pick up their own badge in person.  The badges will be good for the duration of the swim season in case the meet is postponed for weather. \nAll visitors using the temporary badge should enter Redstone Arsenal via Gate 8 (corner of Drake Ave and Patton Rd) for the meet. \nCLICK TO REGISTER FOR VISITOR’S PASS \nLEAVING REDSTONE ARSENAL AFTER 9:00\nGate 8 closes at 9:00 pm.  Please use Gate 9 to exit Redstone Arsenal after 9:00 pm. Directions to Gate 9:  From RedstoneAquatics Center\, Building 3705\, continue straight (west) on Aerobee Rd.  Turn Right (north) on Vincent Dr (Aerobee Rd ends at Vincent Dr).  Turn left (west) on Goss Rd.  Turn Right(north) on Rideout Rd (Goss Rd ends at Rideout Rd).  Rideout Rd turns into Research Park Blvd.
URL:https://www.sherwoodswimclub.com/event/sher-at-rsal/
LOCATION:Redstone Arsenal\, 3705 Aerobee Rd\, Huntsville\, AL\, United States
CATEGORIES:Swim Team
END:VEVENT
BEGIN:VEVENT
DTSTART;TZID=America/Chicago:20220605T130000
DTEND;TZID=America/Chicago:20220605T143000
DTSTAMP:20260422T011917
CREATED:20220604T231506Z
LAST-MODIFIED:20220604T231516Z
UID:2509-1654434000-1654439400@www.sherwoodswimclub.com
SUMMARY:Dive Practice (optional)
DESCRIPTION:This is an optional dive practice.  Coach Steve is donating his time this Sunday to continue getting our divers ready for the season! \nThe practice is open to all ages for Sherwood Dive Team participants.
URL:https://www.sherwoodswimclub.com/event/dive-practice-optional/
LOCATION:Sherwood Pool\, 518 Forrest Park Ct NW\, Huntsville\, AL\, 35806\, United States
CATEGORIES:Dive Team
ATTACH;FMTTYPE=image/jpeg:https://www.sherwoodswimclub.com/wp-content/uploads/2022/04/diving.jpg
END:VEVENT
BEGIN:VEVENT
DTSTART;VALUE=DATE:20220604
DTEND;VALUE=DATE:20220612
DTSTAMP:20260422T011917
CREATED:20220530T143215Z
LAST-MODIFIED:20220530T144436Z
UID:2456-1654300800-1654991999@www.sherwoodswimclub.com
SUMMARY:Open House
DESCRIPTION:Sherwood Swim Club is hosting its annual Open House.  During the Open House week\, non-members are encouraged to join us\, experience our swim community\, and see if Sherwood is where you want to spend your summer!  There is a $5/person daily entry fee for non-members.
URL:https://www.sherwoodswimclub.com/event/open-house/
LOCATION:Sherwood Pool\, 518 Forrest Park Ct NW\, Huntsville\, AL\, 35806\, United States
CATEGORIES:Social
ATTACH;FMTTYPE=image/jpeg:https://www.sherwoodswimclub.com/wp-content/uploads/2013/01/pool.jpg
END:VEVENT
BEGIN:VEVENT
DTSTART;TZID=America/Chicago:20220531T163000
DTEND;TZID=America/Chicago:20220531T210000
DTSTAMP:20260422T011917
CREATED:20220522T153432Z
LAST-MODIFIED:20220531T173747Z
UID:2299-1654014600-1654030800@www.sherwoodswimclub.com
SUMMARY:SHER vs SJST (B Meet)
DESCRIPTION:Sherwood to host Sharon Johnston Swim Team.  This is a “B Meet” that will serve as time trials for the 2022 summer swim season!  A “B Meet” is a practice meet that does not count towards the two splashes required to compete in the annual City Meet. \nBecause this is a “B Meet”\, swimmers will select which strokes they want to swim.  It is encouraged that your swimmer(s) take advantage of the opportunity to swim all four competitive strokes.  For regular season swim meets\, coaches will select which swimmers participate in individual and relay events.  Every swimmer will have the opportunity to swim at least one event in each regular season meet. \nFor new parents\, this practice meet is a great way to give your kids an opportunity to experience the fun and excitement of competition before we kick off the regular season! \nSHER VS SJST B MEET HEAT SHEET\n 
URL:https://www.sherwoodswimclub.com/event/sher-vs-sjst-b-meet/
LOCATION:Sherwood Pool\, 518 Forrest Park Ct NW\, Huntsville\, AL\, 35806\, United States
CATEGORIES:Swim Team
END:VEVENT
END:VCALENDAR