BEGIN:VCALENDAR
VERSION:2.0
PRODID:-//Sherwood Swim Club - ECPv6.2.6//NONSGML v1.0//EN
CALSCALE:GREGORIAN
METHOD:PUBLISH
X-WR-CALNAME:Sherwood Swim Club
X-ORIGINAL-URL:https://www.sherwoodswimclub.com
X-WR-CALDESC:Events for Sherwood Swim Club
REFRESH-INTERVAL;VALUE=DURATION:PT1H
X-Robots-Tag:noindex
X-PUBLISHED-TTL:PT1H
BEGIN:VTIMEZONE
TZID:America/Chicago
BEGIN:DAYLIGHT
TZOFFSETFROM:-0600
TZOFFSETTO:-0500
TZNAME:CDT
DTSTART:20220313T080000
END:DAYLIGHT
BEGIN:STANDARD
TZOFFSETFROM:-0500
TZOFFSETTO:-0600
TZNAME:CST
DTSTART:20221106T070000
END:STANDARD
BEGIN:DAYLIGHT
TZOFFSETFROM:-0600
TZOFFSETTO:-0500
TZNAME:CDT
DTSTART:20230312T080000
END:DAYLIGHT
BEGIN:STANDARD
TZOFFSETFROM:-0500
TZOFFSETTO:-0600
TZNAME:CST
DTSTART:20231105T070000
END:STANDARD
END:VTIMEZONE
BEGIN:VEVENT
DTSTART;TZID=America/Chicago:20230429T080000
DTEND;TZID=America/Chicago:20230430T170000
DTSTAMP:20260419T111214
CREATED:20230423T005802Z
LAST-MODIFIED:20230423T010533Z
UID:2893-1682755200-1682874000@www.sherwoodswimclub.com
SUMMARY:Pool Prep Work Days
DESCRIPTION:Calling all Sherwood Members!  This is your opportunity to earn up to $100 off your summer membership.  Please come out and support our pool community as we drain\, muck\, and pressure wash the pool to get ready for a summer of fun!  We’re getting an early start preparing the pool this summer to accommodate pool light replacement.
URL:https://www.sherwoodswimclub.com/event/pool-prep-work-days/
LOCATION:Sherwood Pool\, 518 Forrest Park Ct NW\, Huntsville\, AL\, 35806\, United States
CATEGORIES:Dive Team,Social,Swim Team,Volunteering
ATTACH;FMTTYPE=image/jpeg:https://www.sherwoodswimclub.com/wp-content/uploads/2022/03/Sherwood_Header2-01.jpg
END:VEVENT
BEGIN:VEVENT
DTSTART;TZID=America/Chicago:20220621T163000
DTEND;TZID=America/Chicago:20220621T183000
DTSTAMP:20260419T111214
CREATED:20220615T002031Z
LAST-MODIFIED:20220615T003725Z
UID:2588-1655829000-1655836200@www.sherwoodswimclub.com
SUMMARY:Swim-a-Thon!
DESCRIPTION:Support your Sherwood Sharks at an afternoon Swim-a-Thon!  This is a great opportunity for your swimmers to get some exercise while raising money for our swim and dive teams. \nSwimmers will have one hour to swim their laps.  They must stay in the pool but are allowed breaks in the pool if necessary.  When they leave the pool\, their swim-a-thon is done.  The laps will be tracked and posted after the event.  The top 3 swimmers with the most laps in each age group will win a prize!  Concessions will be available during the swim-a-thon. \n \n  \nPledges and flat rate donations should be collected and paid to the swim club by Friday\, June 24th. \n  \n \nFor more information about this year’s Swim-a-Thon\, contact Jamie Andrews or Jessica Driggers.
URL:https://www.sherwoodswimclub.com/event/swim-a-thon/
LOCATION:Sherwood Pool\, 518 Forrest Park Ct NW\, Huntsville\, AL\, 35806\, United States
CATEGORIES:Dive Team,Social,Swim Team,Volunteering
ATTACH;FMTTYPE=image/jpeg:https://www.sherwoodswimclub.com/wp-content/uploads/2019/05/sherwood-swim-team-practice.jpg
END:VEVENT
END:VCALENDAR