BEGIN:VCALENDAR
VERSION:2.0
PRODID:-//Sherwood Swim Club - ECPv6.2.6//NONSGML v1.0//EN
CALSCALE:GREGORIAN
METHOD:PUBLISH
X-WR-CALNAME:Sherwood Swim Club
X-ORIGINAL-URL:https://www.sherwoodswimclub.com
X-WR-CALDESC:Events for Sherwood Swim Club
REFRESH-INTERVAL;VALUE=DURATION:PT1H
X-Robots-Tag:noindex
X-PUBLISHED-TTL:PT1H
BEGIN:VTIMEZONE
TZID:America/Chicago
BEGIN:DAYLIGHT
TZOFFSETFROM:-0600
TZOFFSETTO:-0500
TZNAME:CDT
DTSTART:20250309T080000
END:DAYLIGHT
BEGIN:STANDARD
TZOFFSETFROM:-0500
TZOFFSETTO:-0600
TZNAME:CST
DTSTART:20251102T070000
END:STANDARD
END:VTIMEZONE
BEGIN:VEVENT
DTSTART;TZID=America/Chicago:20250521T171500
DTEND;TZID=America/Chicago:20250521T183000
DTSTAMP:20260419T133318
CREATED:20250323T220150Z
LAST-MODIFIED:20250323T223106Z
UID:36174-1747847700-1747852200@www.sherwoodswimclub.com
SUMMARY:Tiger\, Great White\, Mako Sharks
DESCRIPTION:This practice is for Tiger\, Great White\, and Mako Sharks (intermediate to advanced swim groups).
URL:https://www.sherwoodswimclub.com/event/practice-tiger-great-white-mako-sharks-3/
LOCATION:Sherwood Pool\, 518 Forrest Park Ct NW\, Huntsville\, AL\, 35806\, United States
CATEGORIES:Swim Practice
END:VEVENT
BEGIN:VEVENT
DTSTART;TZID=America/Chicago:20250521T163000
DTEND;TZID=America/Chicago:20250521T171500
DTSTAMP:20260419T133318
CREATED:20250323T220119Z
LAST-MODIFIED:20250323T223123Z
UID:36172-1747845000-1747847700@www.sherwoodswimclub.com
SUMMARY:Lemon\, Leopard\, Hammerhead Sharks
DESCRIPTION:This practice is for Lemon\, Leopard\, and Hammerhead Sharks (beginner to intermediate swim groups).
URL:https://www.sherwoodswimclub.com/event/practice-lemon-leopard-hammerhead-sharks-3/
LOCATION:Sherwood Pool\, 518 Forrest Park Ct NW\, Huntsville\, AL\, 35806\, United States
CATEGORIES:Swim Practice
END:VEVENT
BEGIN:VEVENT
DTSTART;TZID=America/Chicago:20250521T160000
DTEND;TZID=America/Chicago:20250521T163000
DTSTAMP:20260419T133318
CREATED:20250323T220043Z
LAST-MODIFIED:20250323T223138Z
UID:36170-1747843200-1747845000@www.sherwoodswimclub.com
SUMMARY:Zebra Sharks
DESCRIPTION:This practice is for Zebra Sharks (novice swim group).
URL:https://www.sherwoodswimclub.com/event/practice-zebra-sharks-3/
LOCATION:Sherwood Pool\, 518 Forrest Park Ct NW\, Huntsville\, AL\, 35806\, United States
CATEGORIES:Swim Practice
END:VEVENT
BEGIN:VEVENT
DTSTART;TZID=America/Chicago:20250520T171500
DTEND;TZID=America/Chicago:20250520T183000
DTSTAMP:20260419T133318
CREATED:20250323T215725Z
LAST-MODIFIED:20250323T223148Z
UID:36166-1747761300-1747765800@www.sherwoodswimclub.com
SUMMARY:Tiger\, Great White\, Mako Sharks
DESCRIPTION:This practice is for Tiger\, Great White\, and Mako Sharks (intermediate to advanced swim groups).
URL:https://www.sherwoodswimclub.com/event/practice-tiger-great-white-mako-sharks-2/
LOCATION:Sherwood Pool\, 518 Forrest Park Ct NW\, Huntsville\, AL\, 35806\, United States
CATEGORIES:Swim Practice
END:VEVENT
BEGIN:VEVENT
DTSTART;TZID=America/Chicago:20250520T163000
DTEND;TZID=America/Chicago:20250520T171500
DTSTAMP:20260419T133318
CREATED:20250323T215751Z
LAST-MODIFIED:20250323T223158Z
UID:36165-1747758600-1747761300@www.sherwoodswimclub.com
SUMMARY:Lemon\, Leopard\, Hammerhead Sharks
DESCRIPTION:This practice is for Lemon\, Leopard\, and Hammerhead Sharks (beginner to intermediate swim groups).
URL:https://www.sherwoodswimclub.com/event/practice-lemon-leopard-hammerhead-sharks-2/
LOCATION:Sherwood Pool\, 518 Forrest Park Ct NW\, Huntsville\, AL\, 35806\, United States
CATEGORIES:Swim Practice
END:VEVENT
BEGIN:VEVENT
DTSTART;TZID=America/Chicago:20250520T160000
DTEND;TZID=America/Chicago:20250520T163000
DTSTAMP:20260419T133318
CREATED:20250323T215914Z
LAST-MODIFIED:20250323T223210Z
UID:36164-1747756800-1747758600@www.sherwoodswimclub.com
SUMMARY:Zebra Sharks
DESCRIPTION:This practice is for Zebra Sharks (novice swim group).
URL:https://www.sherwoodswimclub.com/event/practice-zebra-sharks-2/
LOCATION:Sherwood Pool\, 518 Forrest Park Ct NW\, Huntsville\, AL\, 35806\, United States
CATEGORIES:Swim Practice
END:VEVENT
BEGIN:VEVENT
DTSTART;TZID=America/Chicago:20250519T171500
DTEND;TZID=America/Chicago:20250519T183000
DTSTAMP:20260419T133318
CREATED:20250323T215211Z
LAST-MODIFIED:20250323T223219Z
UID:36161-1747674900-1747679400@www.sherwoodswimclub.com
SUMMARY:Tiger\, Great White\, Mako Sharks
DESCRIPTION:This practice is for Tiger\, Great White\, and Mako Sharks (intermediate to advanced swim groups).
URL:https://www.sherwoodswimclub.com/event/practice-tiger-great-white-mako-sharks/
LOCATION:Sherwood Pool\, 518 Forrest Park Ct NW\, Huntsville\, AL\, 35806\, United States
CATEGORIES:Swim Practice
END:VEVENT
BEGIN:VEVENT
DTSTART;TZID=America/Chicago:20250519T163000
DTEND;TZID=America/Chicago:20250519T171500
DTSTAMP:20260419T133318
CREATED:20250323T214952Z
LAST-MODIFIED:20250323T223230Z
UID:36159-1747672200-1747674900@www.sherwoodswimclub.com
SUMMARY:Lemon\, Leopard\, Hammerhead Sharks
DESCRIPTION:This practice is for Lemon\, Leopard\, and Hammerhead Sharks (beginner to intermediate swim groups).
URL:https://www.sherwoodswimclub.com/event/practice-lemon-leopard-hammerhead-sharks/
LOCATION:Sherwood Pool\, 518 Forrest Park Ct NW\, Huntsville\, AL\, 35806\, United States
CATEGORIES:Swim Practice
END:VEVENT
BEGIN:VEVENT
DTSTART;TZID=America/Chicago:20250519T160000
DTEND;TZID=America/Chicago:20250519T163000
DTSTAMP:20260419T133318
CREATED:20250323T214553Z
LAST-MODIFIED:20250323T223239Z
UID:36157-1747670400-1747672200@www.sherwoodswimclub.com
SUMMARY:Zebra Sharks
DESCRIPTION:This practice is for Zebra Sharks (novice swim group).
URL:https://www.sherwoodswimclub.com/event/practice-zebra-sharks/
LOCATION:Sherwood Pool\, 518 Forrest Park Ct NW\, Huntsville\, AL\, 35806\, United States
CATEGORIES:Swim Practice
END:VEVENT
END:VCALENDAR