BEGIN:VCALENDAR
VERSION:2.0
PRODID:-//Sherwood Swim Club - ECPv6.2.6//NONSGML v1.0//EN
CALSCALE:GREGORIAN
METHOD:PUBLISH
X-ORIGINAL-URL:https://www.sherwoodswimclub.com
X-WR-CALDESC:Events for Sherwood Swim Club
REFRESH-INTERVAL;VALUE=DURATION:PT1H
X-Robots-Tag:noindex
X-PUBLISHED-TTL:PT1H
BEGIN:VTIMEZONE
TZID:America/Chicago
BEGIN:DAYLIGHT
TZOFFSETFROM:-0600
TZOFFSETTO:-0500
TZNAME:CDT
DTSTART:20250309T080000
END:DAYLIGHT
BEGIN:STANDARD
TZOFFSETFROM:-0500
TZOFFSETTO:-0600
TZNAME:CST
DTSTART:20251102T070000
END:STANDARD
END:VTIMEZONE
BEGIN:VEVENT
DTSTART;TZID=America/Chicago:20250703T160000
DTEND;TZID=America/Chicago:20250703T163000
DTSTAMP:20260419T151718
CREATED:20250628T164046Z
LAST-MODIFIED:20250628T164046Z
UID:36653-1751558400-1751560200@www.sherwoodswimclub.com
SUMMARY:Zebra and Lemon Sharks
DESCRIPTION:This practice is for Zebra and Lemon Sharks (novice and beginner swim groups).
URL:https://www.sherwoodswimclub.com/event/zebra-and-lemon-sharks-5/
LOCATION:Sherwood Pool\, 518 Forrest Park Ct NW\, Huntsville\, AL\, 35806\, United States
CATEGORIES:Swim Practice
END:VEVENT
BEGIN:VEVENT
DTSTART;TZID=America/Chicago:20250703T163000
DTEND;TZID=America/Chicago:20250703T171500
DTSTAMP:20260419T151718
CREATED:20250628T164104Z
LAST-MODIFIED:20250628T164104Z
UID:36654-1751560200-1751562900@www.sherwoodswimclub.com
SUMMARY:Leopard and Hammerhead Sharks
DESCRIPTION:This practice is for Leopard and Hammerhead Sharks (beginner to intermediate swim groups).
URL:https://www.sherwoodswimclub.com/event/leopard-and-hammerhead-sharks-5/
LOCATION:Sherwood Pool\, 518 Forrest Park Ct NW\, Huntsville\, AL\, 35806\, United States
CATEGORIES:Swim Practice
END:VEVENT
BEGIN:VEVENT
DTSTART;TZID=America/Chicago:20250703T171500
DTEND;TZID=America/Chicago:20250703T183000
DTSTAMP:20260419T151718
CREATED:20250628T164126Z
LAST-MODIFIED:20250628T164126Z
UID:36655-1751562900-1751567400@www.sherwoodswimclub.com
SUMMARY:Tiger\, Great White\, Mako Sharks
DESCRIPTION:This practice is for Tiger\, Great White\, and Mako Sharks (intermediate to advanced swim groups).
URL:https://www.sherwoodswimclub.com/event/tiger-great-white-mako-sharks-7/
LOCATION:Sherwood Pool\, 518 Forrest Park Ct NW\, Huntsville\, AL\, 35806\, United States
CATEGORIES:Swim Practice
END:VEVENT
END:VCALENDAR