BEGIN:VCALENDAR
VERSION:2.0
PRODID:-//Sherwood Swim Club - ECPv6.2.6//NONSGML v1.0//EN
CALSCALE:GREGORIAN
METHOD:PUBLISH
X-ORIGINAL-URL:https://www.sherwoodswimclub.com
X-WR-CALDESC:Events for Sherwood Swim Club
REFRESH-INTERVAL;VALUE=DURATION:PT1H
X-Robots-Tag:noindex
X-PUBLISHED-TTL:PT1H
BEGIN:VTIMEZONE
TZID:America/Chicago
BEGIN:DAYLIGHT
TZOFFSETFROM:-0600
TZOFFSETTO:-0500
TZNAME:CDT
DTSTART:20250309T080000
END:DAYLIGHT
BEGIN:STANDARD
TZOFFSETFROM:-0500
TZOFFSETTO:-0600
TZNAME:CST
DTSTART:20251102T070000
END:STANDARD
END:VTIMEZONE
BEGIN:VEVENT
DTSTART;TZID=America/Chicago:20250624T160000
DTEND;TZID=America/Chicago:20250624T163000
DTSTAMP:20260419T170854
CREATED:20250619T164346Z
LAST-MODIFIED:20250619T164346Z
UID:36575-1750780800-1750782600@www.sherwoodswimclub.com
SUMMARY:Zebra and Lemon Sharks
DESCRIPTION:This practice is for Zebra and Lemon Sharks (novice and beginner swim groups).
URL:https://www.sherwoodswimclub.com/event/zebra-and-lemon-sharks/
LOCATION:Sherwood Pool\, 518 Forrest Park Ct NW\, Huntsville\, AL\, 35806\, United States
CATEGORIES:Swim Practice
END:VEVENT
BEGIN:VEVENT
DTSTART;TZID=America/Chicago:20250624T163000
DTEND;TZID=America/Chicago:20250624T171500
DTSTAMP:20260419T170854
CREATED:20250619T164507Z
LAST-MODIFIED:20250619T164507Z
UID:36577-1750782600-1750785300@www.sherwoodswimclub.com
SUMMARY:Leopard and Hammerhead Sharks
DESCRIPTION:This practice is for Leopard and Hammerhead Sharks (beginner to intermediate swim groups).
URL:https://www.sherwoodswimclub.com/event/leopard-and-hammerhead-sharks-13/
LOCATION:Sherwood Pool\, 518 Forrest Park Ct NW\, Huntsville\, AL\, 35806\, United States
CATEGORIES:Swim Practice
END:VEVENT
BEGIN:VEVENT
DTSTART;TZID=America/Chicago:20250624T171500
DTEND;TZID=America/Chicago:20250624T183000
DTSTAMP:20260419T170854
CREATED:20250619T164550Z
LAST-MODIFIED:20250619T164550Z
UID:36579-1750785300-1750789800@www.sherwoodswimclub.com
SUMMARY:Tiger\, Great White\, Mako Sharks
DESCRIPTION:This practice is for Tiger\, Great White\, and Mako Sharks (intermediate to advanced swim groups).
URL:https://www.sherwoodswimclub.com/event/tiger-great-white-mako-sharks-28/
LOCATION:Sherwood Pool\, 518 Forrest Park Ct NW\, Huntsville\, AL\, 35806\, United States
CATEGORIES:Swim Practice
END:VEVENT
END:VCALENDAR