BEGIN:VCALENDAR
VERSION:2.0
PRODID:-//Sherwood Swim Club - ECPv6.2.6//NONSGML v1.0//EN
CALSCALE:GREGORIAN
METHOD:PUBLISH
X-ORIGINAL-URL:https://www.sherwoodswimclub.com
X-WR-CALDESC:Events for Sherwood Swim Club
REFRESH-INTERVAL;VALUE=DURATION:PT1H
X-Robots-Tag:noindex
X-PUBLISHED-TTL:PT1H
BEGIN:VTIMEZONE
TZID:America/Chicago
BEGIN:DAYLIGHT
TZOFFSETFROM:-0600
TZOFFSETTO:-0500
TZNAME:CDT
DTSTART:20250309T080000
END:DAYLIGHT
BEGIN:STANDARD
TZOFFSETFROM:-0500
TZOFFSETTO:-0600
TZNAME:CST
DTSTART:20251102T070000
END:STANDARD
END:VTIMEZONE
BEGIN:VEVENT
DTSTART;TZID=America/Chicago:20250623T071500
DTEND;TZID=America/Chicago:20250623T083000
DTSTAMP:20260419T170852
CREATED:20250619T163953Z
LAST-MODIFIED:20250619T163953Z
UID:36569-1750662900-1750667400@www.sherwoodswimclub.com
SUMMARY:Tiger\, Great White\, Mako Sharks
DESCRIPTION:This practice is for Tiger\, Great White\, and Mako Sharks (intermediate to advanced swim groups).
URL:https://www.sherwoodswimclub.com/event/tiger-great-white-mako-sharks-27/
LOCATION:Sherwood Pool\, 518 Forrest Park Ct NW\, Huntsville\, AL\, 35806\, United States
CATEGORIES:Swim Practice
END:VEVENT
BEGIN:VEVENT
DTSTART;TZID=America/Chicago:20250623T083000
DTEND;TZID=America/Chicago:20250623T090000
DTSTAMP:20260419T170852
CREATED:20250619T164022Z
LAST-MODIFIED:20250619T164022Z
UID:36571-1750667400-1750669200@www.sherwoodswimclub.com
SUMMARY:Zebra Sharks and Lemon Sharks
DESCRIPTION:This practice is for Zebra Sharks and Lemon Sharks (novice and beginner swim groups).
URL:https://www.sherwoodswimclub.com/event/zebra-sharks-and-lemon-sharks-13/
LOCATION:Sherwood Pool\, 518 Forrest Park Ct NW\, Huntsville\, AL\, 35806\, United States
CATEGORIES:Swim Practice
END:VEVENT
BEGIN:VEVENT
DTSTART;TZID=America/Chicago:20250623T090000
DTEND;TZID=America/Chicago:20250623T094500
DTSTAMP:20260419T170852
CREATED:20250619T164123Z
LAST-MODIFIED:20250619T164123Z
UID:36573-1750669200-1750671900@www.sherwoodswimclub.com
SUMMARY:Leopard and Hammerhead Sharks
DESCRIPTION:This practice is for Leopard and Hammerhead Sharks (beginner to intermediate swim groups).
URL:https://www.sherwoodswimclub.com/event/leopard-and-hammerhead-sharks-11/
LOCATION:Sherwood Pool\, 518 Forrest Park Ct NW\, Huntsville\, AL\, 35806\, United States
CATEGORIES:Swim Practice
END:VEVENT
END:VCALENDAR