BEGIN:VCALENDAR
VERSION:2.0
PRODID:-//Sherwood Swim Club - ECPv6.2.6//NONSGML v1.0//EN
CALSCALE:GREGORIAN
METHOD:PUBLISH
X-WR-CALNAME:Sherwood Swim Club
X-ORIGINAL-URL:https://www.sherwoodswimclub.com
X-WR-CALDESC:Events for Sherwood Swim Club
REFRESH-INTERVAL;VALUE=DURATION:PT1H
X-Robots-Tag:noindex
X-PUBLISHED-TTL:PT1H
BEGIN:VTIMEZONE
TZID:America/Chicago
BEGIN:DAYLIGHT
TZOFFSETFROM:-0600
TZOFFSETTO:-0500
TZNAME:CDT
DTSTART:20250309T080000
END:DAYLIGHT
BEGIN:STANDARD
TZOFFSETFROM:-0500
TZOFFSETTO:-0600
TZNAME:CST
DTSTART:20251102T070000
END:STANDARD
END:VTIMEZONE
BEGIN:VEVENT
DTSTART;TZID=America/Chicago:20250618T071500
DTEND;TZID=America/Chicago:20250618T083000
DTSTAMP:20260419T170843
CREATED:20250606T002319Z
LAST-MODIFIED:20250606T002319Z
UID:36507-1750230900-1750235400@www.sherwoodswimclub.com
SUMMARY:Tiger\, Great White\, Mako Sharks
DESCRIPTION:This practice is for Tiger\, Great White\, and Mako Sharks (intermediate to advanced swim groups).
URL:https://www.sherwoodswimclub.com/event/tiger-great-white-mako-sharks-24/
LOCATION:Sherwood Pool\, 518 Forrest Park Ct NW\, Huntsville\, AL\, 35806\, United States
CATEGORIES:Swim Practice
END:VEVENT
BEGIN:VEVENT
DTSTART;TZID=America/Chicago:20250618T083000
DTEND;TZID=America/Chicago:20250618T090000
DTSTAMP:20260419T170843
CREATED:20250606T002342Z
LAST-MODIFIED:20250606T002342Z
UID:36508-1750235400-1750237200@www.sherwoodswimclub.com
SUMMARY:Zebra Sharks and Lemon Sharks
DESCRIPTION:This practice is for Zebra Sharks and Lemon Sharks (novice and beginner swim groups).
URL:https://www.sherwoodswimclub.com/event/zebra-sharks-and-lemon-sharks-11/
LOCATION:Sherwood Pool\, 518 Forrest Park Ct NW\, Huntsville\, AL\, 35806\, United States
CATEGORIES:Swim Practice
END:VEVENT
BEGIN:VEVENT
DTSTART;TZID=America/Chicago:20250618T090000
DTEND;TZID=America/Chicago:20250618T094500
DTSTAMP:20260419T170843
CREATED:20250606T002408Z
LAST-MODIFIED:20250606T002408Z
UID:36509-1750237200-1750239900@www.sherwoodswimclub.com
SUMMARY:Leopard and Hammerhead Sharks
DESCRIPTION:This practice is for Leopard and Hammerhead Sharks (beginner to intermediate swim groups).
URL:https://www.sherwoodswimclub.com/event/leopard-and-hammerhead-sharks-10/
LOCATION:Sherwood Pool\, 518 Forrest Park Ct NW\, Huntsville\, AL\, 35806\, United States
CATEGORIES:Swim Practice
END:VEVENT
END:VCALENDAR