BEGIN:VCALENDAR
VERSION:2.0
PRODID:-//Sherwood Swim Club - ECPv6.2.6//NONSGML v1.0//EN
CALSCALE:GREGORIAN
METHOD:PUBLISH
X-WR-CALNAME:Sherwood Swim Club
X-ORIGINAL-URL:https://www.sherwoodswimclub.com
X-WR-CALDESC:Events for Sherwood Swim Club
REFRESH-INTERVAL;VALUE=DURATION:PT1H
X-Robots-Tag:noindex
X-PUBLISHED-TTL:PT1H
BEGIN:VTIMEZONE
TZID:America/Chicago
BEGIN:DAYLIGHT
TZOFFSETFROM:-0600
TZOFFSETTO:-0500
TZNAME:CDT
DTSTART:20250309T080000
END:DAYLIGHT
BEGIN:STANDARD
TZOFFSETFROM:-0500
TZOFFSETTO:-0600
TZNAME:CST
DTSTART:20251102T070000
END:STANDARD
END:VTIMEZONE
BEGIN:VEVENT
DTSTART;TZID=America/Chicago:20250617T071500
DTEND;TZID=America/Chicago:20250617T083000
DTSTAMP:20260419T170637
CREATED:20250606T001856Z
LAST-MODIFIED:20250606T001856Z
UID:36497-1750144500-1750149000@www.sherwoodswimclub.com
SUMMARY:Tiger\, Great White\, Mako Sharks
DESCRIPTION:This practice is for Tiger\, Great White\, and Mako Sharks (intermediate to advanced swim groups).
URL:https://www.sherwoodswimclub.com/event/tiger-great-white-mako-sharks-22/
LOCATION:Sherwood Pool\, 518 Forrest Park Ct NW\, Huntsville\, AL\, 35806\, United States
CATEGORIES:Swim Practice
END:VEVENT
BEGIN:VEVENT
DTSTART;TZID=America/Chicago:20250617T083000
DTEND;TZID=America/Chicago:20250617T091500
DTSTAMP:20260419T170637
CREATED:20250606T001922Z
LAST-MODIFIED:20250606T001922Z
UID:36498-1750149000-1750151700@www.sherwoodswimclub.com
SUMMARY:Lemon\, Leopard\, and Hammerhead Sharks
DESCRIPTION:This practice is for Lemon\, Leopard and Hammerhead Sharks (beginner to intermediate swim groups).
URL:https://www.sherwoodswimclub.com/event/lemon-leopard-and-hammerhead-sharks-3/
LOCATION:Sherwood Pool\, 518 Forrest Park Ct NW\, Huntsville\, AL\, 35806\, United States
CATEGORIES:Swim Practice
END:VEVENT
BEGIN:VEVENT
DTSTART;TZID=America/Chicago:20250617T160000
DTEND;TZID=America/Chicago:20250617T163000
DTSTAMP:20260419T170637
CREATED:20250606T002136Z
LAST-MODIFIED:20250606T002136Z
UID:36501-1750176000-1750177800@www.sherwoodswimclub.com
SUMMARY:Zebra Sharks
DESCRIPTION:This practice is for Zebra Sharks (novice swim group).
URL:https://www.sherwoodswimclub.com/event/zebra-sharks-8/
LOCATION:Sherwood Pool\, 518 Forrest Park Ct NW\, Huntsville\, AL\, 35806\, United States
CATEGORIES:Swim Practice
END:VEVENT
BEGIN:VEVENT
DTSTART;TZID=America/Chicago:20250617T163000
DTEND;TZID=America/Chicago:20250617T171500
DTSTAMP:20260419T170637
CREATED:20250606T002200Z
LAST-MODIFIED:20250606T002200Z
UID:36502-1750177800-1750180500@www.sherwoodswimclub.com
SUMMARY:Lemon\, Leopard\, Hammerhead Sharks
DESCRIPTION:This practice is for Lemon\, Leopard\, and Hammerhead Sharks (beginner to intermediate swim groups).
URL:https://www.sherwoodswimclub.com/event/lemon-leopard-hammerhead-sharks-8/
LOCATION:Sherwood Pool\, 518 Forrest Park Ct NW\, Huntsville\, AL\, 35806\, United States
CATEGORIES:Swim Practice
END:VEVENT
BEGIN:VEVENT
DTSTART;TZID=America/Chicago:20250617T171500
DTEND;TZID=America/Chicago:20250617T183000
DTSTAMP:20260419T170637
CREATED:20250606T002218Z
LAST-MODIFIED:20250606T002218Z
UID:36503-1750180500-1750185000@www.sherwoodswimclub.com
SUMMARY:Tiger\, Great White\, Mako Sharks
DESCRIPTION:This practice is for Tiger\, Great White\, and Mako Sharks (intermediate to advanced swim groups).
URL:https://www.sherwoodswimclub.com/event/tiger-great-white-mako-sharks-23/
LOCATION:Sherwood Pool\, 518 Forrest Park Ct NW\, Huntsville\, AL\, 35806\, United States
CATEGORIES:Swim Practice
END:VEVENT
END:VCALENDAR