BEGIN:VCALENDAR
VERSION:2.0
PRODID:-//Sherwood Swim Club - ECPv6.2.6//NONSGML v1.0//EN
CALSCALE:GREGORIAN
METHOD:PUBLISH
X-WR-CALNAME:Sherwood Swim Club
X-ORIGINAL-URL:https://www.sherwoodswimclub.com
X-WR-CALDESC:Events for Sherwood Swim Club
REFRESH-INTERVAL;VALUE=DURATION:PT1H
X-Robots-Tag:noindex
X-PUBLISHED-TTL:PT1H
BEGIN:VTIMEZONE
TZID:America/Chicago
BEGIN:DAYLIGHT
TZOFFSETFROM:-0600
TZOFFSETTO:-0500
TZNAME:CDT
DTSTART:20250309T080000
END:DAYLIGHT
BEGIN:STANDARD
TZOFFSETFROM:-0500
TZOFFSETTO:-0600
TZNAME:CST
DTSTART:20251102T070000
END:STANDARD
END:VTIMEZONE
BEGIN:VEVENT
DTSTART;TZID=America/Chicago:20250616T071500
DTEND;TZID=America/Chicago:20250616T083000
DTSTAMP:20260419T170844
CREATED:20250606T001307Z
LAST-MODIFIED:20250606T001307Z
UID:36485-1750058100-1750062600@www.sherwoodswimclub.com
SUMMARY:Tiger\, Great White\, Mako Sharks
DESCRIPTION:This practice is for Tiger\, Great White\, and Mako Sharks (intermediate to advanced swim groups).
URL:https://www.sherwoodswimclub.com/event/tiger-great-white-mako-sharks-15/
LOCATION:Sherwood Pool\, 518 Forrest Park Ct NW\, Huntsville\, AL\, 35806\, United States
CATEGORIES:Swim Practice
END:VEVENT
BEGIN:VEVENT
DTSTART;TZID=America/Chicago:20250616T083000
DTEND;TZID=America/Chicago:20250616T090000
DTSTAMP:20260419T170844
CREATED:20250606T001358Z
LAST-MODIFIED:20250606T001358Z
UID:36487-1750062600-1750064400@www.sherwoodswimclub.com
SUMMARY:Zebra Sharks and Lemon Sharks
DESCRIPTION:This practice is for Zebra Sharks and Lemon Sharks (novice and beginner swim groups).
URL:https://www.sherwoodswimclub.com/event/zebra-sharks-and-lemon-sharks-10/
LOCATION:Sherwood Pool\, 518 Forrest Park Ct NW\, Huntsville\, AL\, 35806\, United States
CATEGORIES:Swim Practice
END:VEVENT
BEGIN:VEVENT
DTSTART;TZID=America/Chicago:20250616T090000
DTEND;TZID=America/Chicago:20250616T094500
DTSTAMP:20260419T170844
CREATED:20250606T001440Z
LAST-MODIFIED:20250606T001440Z
UID:36489-1750064400-1750067100@www.sherwoodswimclub.com
SUMMARY:Leopard and Hammerhead Sharks
DESCRIPTION:This practice is for Leopard and Hammerhead Sharks (beginner to intermediate swim groups).
URL:https://www.sherwoodswimclub.com/event/leopard-and-hammerhead-sharks-9/
LOCATION:Sherwood Pool\, 518 Forrest Park Ct NW\, Huntsville\, AL\, 35806\, United States
CATEGORIES:Swim Practice
END:VEVENT
BEGIN:VEVENT
DTSTART;TZID=America/Chicago:20250616T160000
DTEND;TZID=America/Chicago:20250616T163000
DTSTAMP:20260419T170844
CREATED:20250606T001542Z
LAST-MODIFIED:20250606T001542Z
UID:36491-1750089600-1750091400@www.sherwoodswimclub.com
SUMMARY:Zebra Sharks
DESCRIPTION:This practice is for Zebra Sharks (novice swim group).
URL:https://www.sherwoodswimclub.com/event/zebra-sharks-4/
LOCATION:Sherwood Pool\, 518 Forrest Park Ct NW\, Huntsville\, AL\, 35806\, United States
CATEGORIES:Swim Practice
END:VEVENT
BEGIN:VEVENT
DTSTART;TZID=America/Chicago:20250616T163000
DTEND;TZID=America/Chicago:20250616T171500
DTSTAMP:20260419T170844
CREATED:20250606T001640Z
LAST-MODIFIED:20250606T001640Z
UID:36493-1750091400-1750094100@www.sherwoodswimclub.com
SUMMARY:Lemon\, Leopard\, Hammerhead Sharks
DESCRIPTION:This practice is for Lemon\, Leopard\, and Hammerhead Sharks (beginner to intermediate swim groups).
URL:https://www.sherwoodswimclub.com/event/lemon-leopard-hammerhead-sharks-5/
LOCATION:Sherwood Pool\, 518 Forrest Park Ct NW\, Huntsville\, AL\, 35806\, United States
CATEGORIES:Swim Practice
END:VEVENT
BEGIN:VEVENT
DTSTART;TZID=America/Chicago:20250616T171500
DTEND;TZID=America/Chicago:20250616T183000
DTSTAMP:20260419T170844
CREATED:20250606T001730Z
LAST-MODIFIED:20250606T001730Z
UID:36494-1750094100-1750098600@www.sherwoodswimclub.com
SUMMARY:Tiger\, Great White\, Mako Sharks
DESCRIPTION:This practice is for Tiger\, Great White\, and Mako Sharks (intermediate to advanced swim groups).
URL:https://www.sherwoodswimclub.com/event/tiger-great-white-mako-sharks-20/
LOCATION:Sherwood Pool\, 518 Forrest Park Ct NW\, Huntsville\, AL\, 35806\, United States
CATEGORIES:Swim Practice
END:VEVENT
END:VCALENDAR