BEGIN:VCALENDAR
VERSION:2.0
PRODID:-//Sherwood Swim Club - ECPv6.2.6//NONSGML v1.0//EN
CALSCALE:GREGORIAN
METHOD:PUBLISH
X-WR-CALNAME:Sherwood Swim Club
X-ORIGINAL-URL:https://www.sherwoodswimclub.com
X-WR-CALDESC:Events for Sherwood Swim Club
REFRESH-INTERVAL;VALUE=DURATION:PT1H
X-Robots-Tag:noindex
X-PUBLISHED-TTL:PT1H
BEGIN:VTIMEZONE
TZID:America/Chicago
BEGIN:DAYLIGHT
TZOFFSETFROM:-0600
TZOFFSETTO:-0500
TZNAME:CDT
DTSTART:20250309T080000
END:DAYLIGHT
BEGIN:STANDARD
TZOFFSETFROM:-0500
TZOFFSETTO:-0600
TZNAME:CST
DTSTART:20251102T070000
END:STANDARD
END:VTIMEZONE
BEGIN:VEVENT
DTSTART;TZID=America/Chicago:20250523T160000
DTEND;TZID=America/Chicago:20250523T163000
DTSTAMP:20260419T185132
CREATED:20250323T220428Z
LAST-MODIFIED:20250323T223013Z
UID:36182-1748016000-1748017800@www.sherwoodswimclub.com
SUMMARY:Zebra Sharks
DESCRIPTION:This practice is for Zebra Sharks (novice swim group).
URL:https://www.sherwoodswimclub.com/event/practice-zebra-sharks-5/
LOCATION:Sherwood Pool\, 518 Forrest Park Ct NW\, Huntsville\, AL\, 35806\, United States
CATEGORIES:Swim Practice
END:VEVENT
BEGIN:VEVENT
DTSTART;TZID=America/Chicago:20250523T163000
DTEND;TZID=America/Chicago:20250523T171500
DTSTAMP:20260419T185132
CREATED:20250323T220454Z
LAST-MODIFIED:20250323T222935Z
UID:36184-1748017800-1748020500@www.sherwoodswimclub.com
SUMMARY:Lemon\, Leopard\, Hammerhead Sharks
DESCRIPTION:This practice is for Lemon\, Leopard\, and Hammerhead Sharks (beginner to intermediate swim groups).
URL:https://www.sherwoodswimclub.com/event/practice-lemon-leopard-hammerhead-sharks-5/
LOCATION:Sherwood Pool\, 518 Forrest Park Ct NW\, Huntsville\, AL\, 35806\, United States
CATEGORIES:Swim Practice
END:VEVENT
BEGIN:VEVENT
DTSTART;TZID=America/Chicago:20250523T171500
DTEND;TZID=America/Chicago:20250523T183000
DTSTAMP:20260419T185132
CREATED:20250323T220536Z
LAST-MODIFIED:20250323T224834Z
UID:36186-1748020500-1748025000@www.sherwoodswimclub.com
SUMMARY:Tiger\, Great White\, Mako Sharks
DESCRIPTION:This practice is for Tiger\, Great White\, and Mako Sharks (intermediate to advanced swim groups).
URL:https://www.sherwoodswimclub.com/event/practice-tiger-great-white-mako-sharks-5/
LOCATION:Sherwood Pool\, 518 Forrest Park Ct NW\, Huntsville\, AL\, 35806\, United States
CATEGORIES:Swim Practice
END:VEVENT
END:VCALENDAR