BEGIN:VCALENDAR
VERSION:2.0
PRODID:-//Sherwood Swim Club - ECPv6.2.6//NONSGML v1.0//EN
CALSCALE:GREGORIAN
METHOD:PUBLISH
X-ORIGINAL-URL:https://www.sherwoodswimclub.com
X-WR-CALDESC:Events for Sherwood Swim Club
REFRESH-INTERVAL;VALUE=DURATION:PT1H
X-Robots-Tag:noindex
X-PUBLISHED-TTL:PT1H
BEGIN:VTIMEZONE
TZID:America/Chicago
BEGIN:DAYLIGHT
TZOFFSETFROM:-0600
TZOFFSETTO:-0500
TZNAME:CDT
DTSTART:20250309T080000
END:DAYLIGHT
BEGIN:STANDARD
TZOFFSETFROM:-0500
TZOFFSETTO:-0600
TZNAME:CST
DTSTART:20251102T070000
END:STANDARD
END:VTIMEZONE
BEGIN:VEVENT
DTSTART;TZID=America/Chicago:20250623T170000
DTEND;TZID=America/Chicago:20250623T213000
DTSTAMP:20260419T185308
CREATED:20250619T162045Z
LAST-MODIFIED:20250623T155452Z
UID:36563-1750698000-1750714200@www.sherwoodswimclub.com
SUMMARY:Sharon Johnston vs Sherwood (@Sherwood)
DESCRIPTION:Sharon Johnston will be hosting a makeup meet at our home pool!  Thank you to all of our families for your patience last meet while we tried to wait out the weather\, and we look forward to a Monday night showdown. \nHEAT SHEET
URL:https://www.sherwoodswimclub.com/event/sharon-johnston-vs-sherwood-sherwood/
LOCATION:Sherwood Pool\, 518 Forrest Park Ct NW\, Huntsville\, AL\, 35806\, United States
CATEGORIES:Swim Events
ATTACH;FMTTYPE=image/jpeg:https://www.sherwoodswimclub.com/wp-content/uploads/2025/06/SJST.jpg
END:VEVENT
END:VCALENDAR