BEGIN:VCALENDAR
VERSION:2.0
PRODID:-//Sherwood Swim Club - ECPv6.2.6//NONSGML v1.0//EN
CALSCALE:GREGORIAN
METHOD:PUBLISH
X-ORIGINAL-URL:https://www.sherwoodswimclub.com
X-WR-CALDESC:Events for Sherwood Swim Club
REFRESH-INTERVAL;VALUE=DURATION:PT1H
X-Robots-Tag:noindex
X-PUBLISHED-TTL:PT1H
BEGIN:VTIMEZONE
TZID:America/Chicago
BEGIN:DAYLIGHT
TZOFFSETFROM:-0600
TZOFFSETTO:-0500
TZNAME:CDT
DTSTART:20250309T080000
END:DAYLIGHT
BEGIN:STANDARD
TZOFFSETFROM:-0500
TZOFFSETTO:-0600
TZNAME:CST
DTSTART:20251102T070000
END:STANDARD
END:VTIMEZONE
BEGIN:VEVENT
DTSTART;TZID=America/Chicago:20250515T163000
DTEND;TZID=America/Chicago:20250515T173000
DTSTAMP:20260419T205159
CREATED:20250323T213818Z
LAST-MODIFIED:20250323T225733Z
UID:36151-1747326600-1747330200@www.sherwoodswimclub.com
SUMMARY:2025 Swim Team Tryouts!
DESCRIPTION:Coming off of another perfect season in C-League\, we’re ready for another stellar summer! \nIf your swimmer is not a returning Sherwood Shark\, he or she will attend tryouts on either Thursday or Friday.  The requirement for making the team is that your swimmer must be able to swim 1/2 the length of our 25 m pool unassisted.  We will have coaches in the water to help your swimmer if needed.  After completing the minimum requirement of swimming 1/2 the length of the pool\, we will do a little bit of additional work with your swimmer to assess competency in the water so we can place him/her in the appropriate practice group.  Tryouts will be conducted first-come first-served and will typically take around 5 minutes to complete. \nFollowing tryouts\, your swimmer will be placed in a group that corresponds to the season’s practice days and times.  Swim groups will be posted on Saturday\, May 17th.  The Swim & Dive page has a two week rolling schedule of practices and meets for the team. \nIf your swimmer is a returning Shark\, you do not need to attend tryouts.  Instead\, you can join us for the first practice of the season on Monday\, May 19th! \nWe look forward to seeing you at tryouts\, and GO SHARKS!!!
URL:https://www.sherwoodswimclub.com/event/2025-swim-team-tryouts/
LOCATION:Sherwood Pool\, 518 Forrest Park Ct NW\, Huntsville\, AL\, 35806\, United States
CATEGORIES:Swim Events
ATTACH;FMTTYPE=image/jpeg:https://www.sherwoodswimclub.com/wp-content/uploads/2023/07/IMG-6210S.jpg
END:VEVENT
END:VCALENDAR