BEGIN:VCALENDAR
VERSION:2.0
PRODID:-//Sherwood Swim Club - ECPv6.2.6//NONSGML v1.0//EN
CALSCALE:GREGORIAN
METHOD:PUBLISH
X-ORIGINAL-URL:https://www.sherwoodswimclub.com
X-WR-CALDESC:Events for Sherwood Swim Club
REFRESH-INTERVAL;VALUE=DURATION:PT1H
X-Robots-Tag:noindex
X-PUBLISHED-TTL:PT1H
BEGIN:VTIMEZONE
TZID:America/Chicago
BEGIN:DAYLIGHT
TZOFFSETFROM:-0600
TZOFFSETTO:-0500
TZNAME:CDT
DTSTART:20250309T080000
END:DAYLIGHT
BEGIN:STANDARD
TZOFFSETFROM:-0500
TZOFFSETTO:-0600
TZNAME:CST
DTSTART:20251102T070000
END:STANDARD
END:VTIMEZONE
BEGIN:VEVENT
DTSTART;TZID=America/Chicago:20250424T180000
DTEND;TZID=America/Chicago:20250424T200000
DTSTAMP:20260419T223116
CREATED:20250418T153312Z
LAST-MODIFIED:20250418T153641Z
UID:36243-1745517600-1745524800@www.sherwoodswimclub.com
SUMMARY:Suit Up for the Season at Running Lane!
DESCRIPTION:Running Lane will be hosting a suit tryout event for us this season!  This is a great opportunity to find out what size you need for the summer season\, and to purchase any practices suits\, googles\, or other equipment. \nRunning Lane will provide pizza for swimmers and families attending the event.
URL:https://www.sherwoodswimclub.com/event/suit-up-for-the-season-at-running-lane/
LOCATION:Running Lane\, 2407 Memorial Pkwy SW UNIT 1\, Huntsville\, AL\, 35801\, United States
CATEGORIES:Dive Team,Swim Events
ATTACH;FMTTYPE=image/png:https://www.sherwoodswimclub.com/wp-content/uploads/2025/04/RunningLane.png
END:VEVENT
END:VCALENDAR