BEGIN:VCALENDAR
VERSION:2.0
PRODID:-//Sherwood Swim Club - ECPv6.2.6//NONSGML v1.0//EN
CALSCALE:GREGORIAN
METHOD:PUBLISH
X-ORIGINAL-URL:https://www.sherwoodswimclub.com
X-WR-CALDESC:Events for Sherwood Swim Club
REFRESH-INTERVAL;VALUE=DURATION:PT1H
X-Robots-Tag:noindex
X-PUBLISHED-TTL:PT1H
BEGIN:VTIMEZONE
TZID:America/Chicago
BEGIN:DAYLIGHT
TZOFFSETFROM:-0600
TZOFFSETTO:-0500
TZNAME:CDT
DTSTART:20250309T080000
END:DAYLIGHT
BEGIN:STANDARD
TZOFFSETFROM:-0500
TZOFFSETTO:-0600
TZNAME:CST
DTSTART:20251102T070000
END:STANDARD
END:VTIMEZONE
BEGIN:VEVENT
DTSTART;TZID=America/Chicago:20250702T170000
DTEND;TZID=America/Chicago:20250702T210000
DTSTAMP:20260419T151632
CREATED:20250628T163713Z
LAST-MODIFIED:20250702T203656Z
UID:36648-1751475600-1751490000@www.sherwoodswimclub.com
SUMMARY:Sherwood vs Camelot
DESCRIPTION:The 5th and final dual meet of our season against the Camelot Knights will either solidify Sherwood’s place in the upper half of B League or create 3-way tie in the middle.  The Sharks are ready to race and secure our spot as one of B-League’s upper-tier teams in our first season since moving up from C League!  This meet is patriotic themed\, so don your Red\, White\, & Blue\, and show up ready to race! \nHEAT SHEET\nENTRIES
URL:https://www.sherwoodswimclub.com/event/sherwood-vs-camelot/
LOCATION:Sherwood Pool\, 518 Forrest Park Ct NW\, Huntsville\, AL\, 35806\, United States
CATEGORIES:Swim Events
ATTACH;FMTTYPE=image/jpeg:https://www.sherwoodswimclub.com/wp-content/uploads/2025/06/Patriotic.jpg
END:VEVENT
BEGIN:VEVENT
DTSTART;TZID=America/Chicago:20250703T180000
DTEND;TZID=America/Chicago:20250703T180000
DTSTAMP:20260419T151632
CREATED:20250628T165508Z
LAST-MODIFIED:20250628T165849Z
UID:36659-1751565600-1751565600@www.sherwoodswimclub.com
SUMMARY:City Meet Signups Due!
DESCRIPTION:Swimmer Signups for the City Championship Meet are due to RCSL.  We look forward to seeing you at the biggest\, craziest\, and most entertaining swim meet in Alabama! \nIn addition\, each team is REQUIRED to provide volunteers for the meet.  If you are attending\, please consider volunteering!  If we don’t get our volunteer roles filled\, a lottery will be instituted\, and the “winners” will be required to fill designated volunteer slots in order for their swimmer(s) to participate. \nYou can sign up for volunteering at city meet here:\nhttps://www.signupgenius.com/go/10C0B45AAAE2EA6F4C70-57384261-city#/\n 
URL:https://www.sherwoodswimclub.com/event/city-meet-signups-due/
LOCATION:AL
CATEGORIES:Swim Events
ATTACH;FMTTYPE=image/jpeg:https://www.sherwoodswimclub.com/wp-content/uploads/2022/07/SherwoodFlagCityMeetSB0.jpg
END:VEVENT
BEGIN:VEVENT
DTSTART;TZID=America/Chicago:20250711T110000
DTEND;TZID=America/Chicago:20250711T235500
DTSTAMP:20260419T151632
CREATED:20250707T232334Z
LAST-MODIFIED:20250707T232334Z
UID:36725-1752231600-1752278100@www.sherwoodswimclub.com
SUMMARY:Block Practice at the HAC
DESCRIPTION:This is our chance to dive off of the Huntsville Aquatic Center’s starting blocks in preparation for the meet.  We’ve worked hard all year\, and really focused on starts in the final week.  Please make it to block practice so we can get tuned up on the racing blocks that we’ll be using for competition over the weekend!  For swimmers who are new to RCSL this season\, this is a great opportunity to “get your feet wet” in the competition pool before the weekend’s big races. \nPlease arrive 10 minutes early so we can be ready to go as a team when it’s our turn for practice.
URL:https://www.sherwoodswimclub.com/event/block-practice-at-the-hac/
LOCATION:Huntsville Acquatic Center\, 2213 Drake Ave SW\, Huntsville\, AL\, 35805\, United States
CATEGORIES:Swim Events
ATTACH;FMTTYPE=image/png:https://www.sherwoodswimclub.com/wp-content/uploads/2022/06/HAC0.png
END:VEVENT
BEGIN:VEVENT
DTSTART;VALUE=DATE:20250712
DTEND;VALUE=DATE:20250714
DTSTAMP:20260419T151632
CREATED:20250703T173004Z
LAST-MODIFIED:20250711T220705Z
UID:36674-1752278400-1752451199@www.sherwoodswimclub.com
SUMMARY:City Championship Meet
DESCRIPTION:Welcome to the craziest\, most exciting meet in the history of swimming!  Review the entry list and make sure that if you signed up\, you’re on the list.  For City Meet\, we can only field one relay team per relay event\, and three swimmers per individual event (with the exception of exhibition freestyle)  So there are fewer opportunities available compared to a dual meet.  During dual meets\, the coaches will spread around entries and give swimmers opportunities to swim different things.  For the Championship meet\, spots are earned based on best times from the dual meets (or time trials).  Earning a spot swimming for points at the Championship meet is a great achievement\, and congratulations to all of our swimmers for a great dual meet season! \nHEAT SHEET\n  \nENTRIES\n\nORDER OF EVENTS\nBlock Practice is Friday from 1100-1155.  See the Block Practice event for more information!\nTENT LAYOUT\n  \nWARMUP LANE ASSIGNMENTS\nSherwood warmup times: \n\nSat AM 07:45-08:15\nSat PM 12:15-12:45\nSun AM 07:15-07:45\nSun PM 11:45-12:15\n\nStay tuned for the Sherwood-specific Heat Sheet!
URL:https://www.sherwoodswimclub.com/event/city-championship-meet/
LOCATION:Huntsville Acquatic Center\, 2213 Drake Ave SW\, Huntsville\, AL\, 35805\, United States
CATEGORIES:Swim Events
ATTACH;FMTTYPE=image/jpeg:https://www.sherwoodswimclub.com/wp-content/uploads/2022/07/SherRelayWin3.jpg
END:VEVENT
END:VCALENDAR