BEGIN:VCALENDAR
VERSION:2.0
PRODID:-//Sherwood Swim Club - ECPv6.2.6//NONSGML v1.0//EN
CALSCALE:GREGORIAN
METHOD:PUBLISH
X-ORIGINAL-URL:https://www.sherwoodswimclub.com
X-WR-CALDESC:Events for Sherwood Swim Club
REFRESH-INTERVAL;VALUE=DURATION:PT1H
X-Robots-Tag:noindex
X-PUBLISHED-TTL:PT1H
BEGIN:VTIMEZONE
TZID:America/Chicago
BEGIN:DAYLIGHT
TZOFFSETFROM:-0600
TZOFFSETTO:-0500
TZNAME:CDT
DTSTART:20250309T080000
END:DAYLIGHT
BEGIN:STANDARD
TZOFFSETFROM:-0500
TZOFFSETTO:-0600
TZNAME:CST
DTSTART:20251102T070000
END:STANDARD
END:VTIMEZONE
BEGIN:VEVENT
DTSTART;TZID=America/Chicago:20250604T170000
DTEND;TZID=America/Chicago:20250604T213000
DTSTAMP:20260419T170828
CREATED:20250525T050045Z
LAST-MODIFIED:20250604T194409Z
UID:36318-1749056400-1749072600@www.sherwoodswimclub.com
SUMMARY:Sherwood vs Piedmont
DESCRIPTION:It’s the Sharks’ first dual meet of the season against the reigning B-League champion Piedmont Piranhas.  It looks to be a tough season opener\, but our sharks are ready for the challenge! \nHEAT SHEET\nENTRIES
URL:https://www.sherwoodswimclub.com/event/sherwood-vs-piedmont/
LOCATION:Sherwood Pool\, 518 Forrest Park Ct NW\, Huntsville\, AL\, 35806\, United States
CATEGORIES:Swim Events
ATTACH;FMTTYPE=image/jpeg:https://www.sherwoodswimclub.com/wp-content/uploads/2023/03/poolWithTreesWide-scaled.jpg
END:VEVENT
BEGIN:VEVENT
DTSTART;TZID=America/Chicago:20250611T180000
DTEND;TZID=America/Chicago:20250611T220000
DTSTAMP:20260419T170828
CREATED:20250606T181012Z
LAST-MODIFIED:20250611T170220Z
UID:36471-1749664800-1749679200@www.sherwoodswimclub.com
SUMMARY:Sherwood at Hampton Cove
DESCRIPTION:Our second dual meet of the season is against the Hampton Cove Hurricanes.  With some great swims and great cheers\, our sharks have a chance to walk away with our first B-League win!  Good luck\, and GO SHARKS!!! \nHEAT SHEET\n  \nENTRIES
URL:https://www.sherwoodswimclub.com/event/sherwood-at-hampton-cove/
LOCATION:Sherwood Pool\, 518 Forrest Park Ct NW\, Huntsville\, AL\, 35806\, United States
CATEGORIES:Swim Events
ATTACH;FMTTYPE=image/jpeg:https://www.sherwoodswimclub.com/wp-content/uploads/2023/03/poolWithTreesWide-scaled.jpg
END:VEVENT
BEGIN:VEVENT
DTSTART;TZID=America/Chicago:20250614T083000
DTEND;TZID=America/Chicago:20250614T120000
DTSTAMP:20260419T170828
CREATED:20250606T181224Z
LAST-MODIFIED:20250614T011230Z
UID:36480-1749889800-1749902400@www.sherwoodswimclub.com
SUMMARY:Stingray's Saltwater Invitational
DESCRIPTION:The 2025 Stingray’s Saltwater Invitational is a great opportunity for swimmers to pick the events they want and to enjoy a beautiful morning at a beautiful pool!  No volunteering required!  Just sign your swimmer up\, pay the entry fees\, and show up for the meet.  Good luck and GO SHARKS!!! \nHEAT SHEET
URL:https://www.sherwoodswimclub.com/event/stingrays-saltwater-invitational-3/
LOCATION:Mountain Springs\, 905 Kennamer Dr SE\, Huntsville\, AL\, 35801\, United States
CATEGORIES:Swim Events
ATTACH;FMTTYPE=image/jpeg:https://www.sherwoodswimclub.com/wp-content/uploads/2025/06/MTSP_Invite.jpg
END:VEVENT
BEGIN:VEVENT
DTSTART;TZID=America/Chicago:20250618T180000
DTEND;TZID=America/Chicago:20250618T220000
DTSTAMP:20260419T170828
CREATED:20250614T014609Z
LAST-MODIFIED:20250618T203926Z
UID:36537-1750269600-1750284000@www.sherwoodswimclub.com
SUMMARY:Sherwood at Sharon Johnston (@ Chapman Pool)
DESCRIPTION:After a great showing against the Hurricanes\, the sharks are 1 and 1 heading into our third dual meet of the season!  This is a great chance to show our mettle as we battle against a perennial B League powerhouse.  Good luck and GO SHARKS! \n \n 
URL:https://www.sherwoodswimclub.com/event/sherwood-at-sharon-johnston-chapman-pool/
LOCATION:Chapman Pool\, 2015 Pettus Dr NE\, Huntsville\, AL\, 35811\, United States
CATEGORIES:Swim Events
ATTACH;FMTTYPE=image/jpeg:https://www.sherwoodswimclub.com/wp-content/uploads/2025/06/SJST.jpg
END:VEVENT
BEGIN:VEVENT
DTSTART;TZID=America/Chicago:20250619T160000
DTEND;TZID=America/Chicago:20250619T183000
DTSTAMP:20260419T170828
CREATED:20250614T015029Z
LAST-MODIFIED:20250617T172855Z
UID:36543-1750348800-1750357800@www.sherwoodswimclub.com
SUMMARY:Swim-a-Thon!
DESCRIPTION:It’s one of the most important and fun events of the Sherwood season!  Swimmers will work hard in the pool to see who’s the top-shark that can swim the most laps in the allotted time.  There are prizes for winners in each group\, and our top earners will get a pass to Pointe Mallard Water Park!  The water park pass is especially useful when we have our team outing at Pointe Mallard in a few weeks. \nCLICK HERE TO DONATE NOW!\nThank you so much to all of our swim families!  This fund raiser is what keeps Sherwood Swim Team and the Sherwood pool alive.  Please support your Sharks! \n4:00pm – 5:00pm Tiger\, Great White\, and Mako Sharks\n5:00pm – 5:30pm Zebra and Lemon Sharks\n5:30pm – 6:30pm Leopard and Hammerhead Sharks \n  \n \n 
URL:https://www.sherwoodswimclub.com/event/tiger-great-white-mako-sharks-25/
LOCATION:Sherwood Pool\, 518 Forrest Park Ct NW\, Huntsville\, AL\, 35806\, United States
CATEGORIES:Swim Events
ATTACH;FMTTYPE=image/jpeg:https://www.sherwoodswimclub.com/wp-content/uploads/2022/06/SwimAThon0.jpg
END:VEVENT
BEGIN:VEVENT
DTSTART;TZID=America/Chicago:20250623T170000
DTEND;TZID=America/Chicago:20250623T213000
DTSTAMP:20260419T170828
CREATED:20250619T162045Z
LAST-MODIFIED:20250623T155452Z
UID:36563-1750698000-1750714200@www.sherwoodswimclub.com
SUMMARY:Sharon Johnston vs Sherwood (@Sherwood)
DESCRIPTION:Sharon Johnston will be hosting a makeup meet at our home pool!  Thank you to all of our families for your patience last meet while we tried to wait out the weather\, and we look forward to a Monday night showdown. \nHEAT SHEET
URL:https://www.sherwoodswimclub.com/event/sharon-johnston-vs-sherwood-sherwood/
LOCATION:Sherwood Pool\, 518 Forrest Park Ct NW\, Huntsville\, AL\, 35806\, United States
CATEGORIES:Swim Events
ATTACH;FMTTYPE=image/jpeg:https://www.sherwoodswimclub.com/wp-content/uploads/2025/06/SJST.jpg
END:VEVENT
BEGIN:VEVENT
DTSTART;TZID=America/Chicago:20250625T170000
DTEND;TZID=America/Chicago:20250625T213000
DTSTAMP:20260419T170828
CREATED:20250619T162821Z
LAST-MODIFIED:20250625T052642Z
UID:36565-1750870800-1750887000@www.sherwoodswimclub.com
SUMMARY:Sherwood vs Mountain Springs
DESCRIPTION:It’s our 4th dual meet of the season against the Mountain Springs Stingrays!  The Sharks are off to a great start in B-League\, and look to add another mark in the victory column in this hotly contested meet. \nHEAT SHEET
URL:https://www.sherwoodswimclub.com/event/sherwood-vs-mountain-springs/
LOCATION:Sherwood Pool\, 518 Forrest Park Ct NW\, Huntsville\, AL\, 35806\, United States
CATEGORIES:Swim Events
ATTACH;FMTTYPE=image/jpeg:https://www.sherwoodswimclub.com/wp-content/uploads/2023/03/poolWithTreesWide-scaled.jpg
END:VEVENT
END:VCALENDAR