BEGIN:VCALENDAR
VERSION:2.0
PRODID:-//Sherwood Swim Club - ECPv6.2.6//NONSGML v1.0//EN
CALSCALE:GREGORIAN
METHOD:PUBLISH
X-ORIGINAL-URL:https://www.sherwoodswimclub.com
X-WR-CALDESC:Events for Sherwood Swim Club
REFRESH-INTERVAL;VALUE=DURATION:PT1H
X-Robots-Tag:noindex
X-PUBLISHED-TTL:PT1H
BEGIN:VTIMEZONE
TZID:America/Chicago
BEGIN:DAYLIGHT
TZOFFSETFROM:-0600
TZOFFSETTO:-0500
TZNAME:CDT
DTSTART:20250309T080000
END:DAYLIGHT
BEGIN:STANDARD
TZOFFSETFROM:-0500
TZOFFSETTO:-0600
TZNAME:CST
DTSTART:20251102T070000
END:STANDARD
END:VTIMEZONE
BEGIN:VEVENT
DTSTART;TZID=America/Chicago:20250608T170000
DTEND;TZID=America/Chicago:20250608T220000
DTSTAMP:20260423T233052
CREATED:20250605T234435Z
LAST-MODIFIED:20250605T235101Z
UID:36476-1749402000-1749420000@www.sherwoodswimclub.com
SUMMARY:Sunday Fun Night
DESCRIPTION:Come out for a laid-back time with friends\, games\, and grilling!  We will keep the fun going until after dark. \n$5 per person for non-members.  Open to everyone with an adult present.
URL:https://www.sherwoodswimclub.com/event/sunday-fun-night/
LOCATION:AL
CATEGORIES:Social
ATTACH;FMTTYPE=image/jpeg:https://www.sherwoodswimclub.com/wp-content/uploads/2025/06/LawnGames.jpg
END:VEVENT
END:VCALENDAR