BEGIN:VCALENDAR
VERSION:2.0
PRODID:-//Sherwood Swim Club - ECPv6.2.6//NONSGML v1.0//EN
CALSCALE:GREGORIAN
METHOD:PUBLISH
X-WR-CALNAME:Sherwood Swim Club
X-ORIGINAL-URL:https://www.sherwoodswimclub.com
X-WR-CALDESC:Events for Sherwood Swim Club
REFRESH-INTERVAL;VALUE=DURATION:PT1H
X-Robots-Tag:noindex
X-PUBLISHED-TTL:PT1H
BEGIN:VTIMEZONE
TZID:America/Chicago
BEGIN:DAYLIGHT
TZOFFSETFROM:-0600
TZOFFSETTO:-0500
TZNAME:CDT
DTSTART:20230312T080000
END:DAYLIGHT
BEGIN:STANDARD
TZOFFSETFROM:-0500
TZOFFSETTO:-0600
TZNAME:CST
DTSTART:20231105T070000
END:STANDARD
END:VTIMEZONE
BEGIN:VEVENT
DTSTART;TZID=America/Chicago:20230517T160000
DTEND;TZID=America/Chicago:20230517T183000
DTSTAMP:20260425T175513
CREATED:20230325T021627Z
LAST-MODIFIED:20230325T021810Z
UID:2842-1684339200-1684348200@www.sherwoodswimclub.com
SUMMARY:Sherwood Sharks Swim & Dive Tryouts
DESCRIPTION:The Sharks are back and ready to make waves in 2023!  The coaches are excited for another fun season in the pool this summer\, and we can’t wait for the season the start. \n4:00 pm – 5:00 pm: 11 yr & up\n5:00 pm – 5:30 pm: 6 yr & under\n5:30 pm – 6:30 pm: 7 yr to 10 yr
URL:https://www.sherwoodswimclub.com/event/sherwood-sharks-swim-dive-tryouts/
LOCATION:Sherwood Pool\, 518 Forrest Park Ct NW\, Huntsville\, AL\, 35806\, United States
CATEGORIES:Dive Team,Social,Swim Team
ATTACH;FMTTYPE=image/jpeg:https://www.sherwoodswimclub.com/wp-content/uploads/2022/06/SherVsByrd22.jpg
END:VEVENT
BEGIN:VEVENT
DTSTART;TZID=America/Chicago:20230527T100000
DTEND;TZID=America/Chicago:20230529T200000
DTSTAMP:20260425T175513
CREATED:20230402T170010Z
LAST-MODIFIED:20230325T115554Z
UID:2869-1685181600-1685390400@www.sherwoodswimclub.com
SUMMARY:Opening Weekend!
DESCRIPTION:Sherwood Swim Club opens its gates over memorial day weekend to kick off a summer of fun!
URL:https://www.sherwoodswimclub.com/event/opening-weekend/
LOCATION:Sherwood Pool\, 518 Forrest Park Ct NW\, Huntsville\, AL\, 35806\, United States
CATEGORIES:Social
ATTACH;FMTTYPE=image/jpeg:https://www.sherwoodswimclub.com/wp-content/uploads/2023/03/poolWithTreesWide-scaled.jpg
END:VEVENT
END:VCALENDAR